BEGIN:VCALENDAR
VERSION:2.0
PRODID:-//PumpTrackSYR - ECPv6.15.12.2//NONSGML v1.0//EN
CALSCALE:GREGORIAN
METHOD:PUBLISH
X-ORIGINAL-URL:https://pumptracksyr.com
X-WR-CALDESC:Events for PumpTrackSYR
REFRESH-INTERVAL;VALUE=DURATION:PT1H
X-Robots-Tag:noindex
X-PUBLISHED-TTL:PT1H
BEGIN:VTIMEZONE
TZID:America/New_York
BEGIN:DAYLIGHT
TZOFFSETFROM:-0500
TZOFFSETTO:-0400
TZNAME:EDT
DTSTART:20220313T070000
END:DAYLIGHT
BEGIN:STANDARD
TZOFFSETFROM:-0400
TZOFFSETTO:-0500
TZNAME:EST
DTSTART:20221106T060000
END:STANDARD
BEGIN:DAYLIGHT
TZOFFSETFROM:-0500
TZOFFSETTO:-0400
TZNAME:EDT
DTSTART:20230312T070000
END:DAYLIGHT
BEGIN:STANDARD
TZOFFSETFROM:-0400
TZOFFSETTO:-0500
TZNAME:EST
DTSTART:20231105T060000
END:STANDARD
BEGIN:DAYLIGHT
TZOFFSETFROM:-0500
TZOFFSETTO:-0400
TZNAME:EDT
DTSTART:20240310T070000
END:DAYLIGHT
BEGIN:STANDARD
TZOFFSETFROM:-0400
TZOFFSETTO:-0500
TZNAME:EST
DTSTART:20241103T060000
END:STANDARD
BEGIN:DAYLIGHT
TZOFFSETFROM:-0500
TZOFFSETTO:-0400
TZNAME:EDT
DTSTART:20250309T070000
END:DAYLIGHT
BEGIN:STANDARD
TZOFFSETFROM:-0400
TZOFFSETTO:-0500
TZNAME:EST
DTSTART:20251102T060000
END:STANDARD
END:VTIMEZONE
BEGIN:VEVENT
DTSTART;TZID=America/New_York:20240727T130000
DTEND;TZID=America/New_York:20240727T150000
DTSTAMP:20260423T123154
CREATED:20240601T115906Z
LAST-MODIFIED:20240601T115906Z
UID:376-1722085200-1722092400@pumptracksyr.com
SUMMARY:Neighbors: Bike Depot\, Open Shop
DESCRIPTION:Fix your bike at the BIKE DEPOT! ¡Ven a reparar tu bicicleta! \nOpen Shop most Tuesdays 5-7PM and Saturdays 1-3PM.\nEl Bici Taller abre los martes 5-7PM y los sabados 1-3PM. \nCheck Facebook to confirm we are open and to let us know you’re coming!\n¡Chequeala página de Facebook para confirmar que estaremos abiertos! \nThe Bike Depot is a volunteer-run community bicycle repair workshop. Volunteer\, use tools to work on your own bicycle\, earn a bike\, and share skills and mutual aid. \nBike Depot es un taller communitario donde puedes reparar tu bicicleta tú mismo de manera gratuita. El Bici Taller es auto-administrado por voluntarios y hay muchas oportunidades para personas que quieren juntarse al equpio.
URL:https://pumptracksyr.com/event/neighbors-bike-depot-open-shop-22/
LOCATION:Bike Depot at 713 Marcellus Street\, 713 Marcellus Street\, Syracuse\, NY
END:VEVENT
BEGIN:VEVENT
DTSTART;TZID=America/New_York:20240723T170000
DTEND;TZID=America/New_York:20240723T190000
DTSTAMP:20260423T123154
CREATED:20240601T114725Z
LAST-MODIFIED:20240601T114814Z
UID:345-1721754000-1721761200@pumptracksyr.com
SUMMARY:Neighbors: Bike Depot\, Open Shop
DESCRIPTION:Fix your bike at the BIKE DEPOT! ¡Ven a reparar tu bicicleta! \nOpen Shop most Tuesdays 5-7PM and Saturdays 1-3PM.\nEl Bici Taller abre los martes 5-7PM y los sabados 1-3PM. \nCheck Facebook to confirm we are open and to let us know you’re coming!\n¡Chequeala página de Facebook para confirmar que estaremos abiertos! \nThe Bike Depot is a volunteer-run community bicycle repair workshop. Volunteer\, use tools to work on your own bicycle\, earn a bike\, and share skills and mutual aid. \nBike Depot es un taller communitario donde puedes reparar tu bicicleta tú mismo de manera gratuita. El Bici Taller es auto-administrado por voluntarios y hay muchas oportunidades para personas que quieren juntarse al equpio.
URL:https://pumptracksyr.com/event/neighbors-bike-depot-open-shop-7/
LOCATION:Bike Depot at 713 Marcellus Street\, 713 Marcellus Street\, Syracuse\, NY
END:VEVENT
BEGIN:VEVENT
DTSTART;TZID=America/New_York:20240720T130000
DTEND;TZID=America/New_York:20240720T150000
DTSTAMP:20260423T123154
CREATED:20240601T115817Z
LAST-MODIFIED:20240601T115817Z
UID:374-1721480400-1721487600@pumptracksyr.com
SUMMARY:Neighbors: Bike Depot\, Open Shop
DESCRIPTION:Fix your bike at the BIKE DEPOT! ¡Ven a reparar tu bicicleta! \nOpen Shop most Tuesdays 5-7PM and Saturdays 1-3PM.\nEl Bici Taller abre los martes 5-7PM y los sabados 1-3PM. \nCheck Facebook to confirm we are open and to let us know you’re coming!\n¡Chequeala página de Facebook para confirmar que estaremos abiertos! \nThe Bike Depot is a volunteer-run community bicycle repair workshop. Volunteer\, use tools to work on your own bicycle\, earn a bike\, and share skills and mutual aid. \nBike Depot es un taller communitario donde puedes reparar tu bicicleta tú mismo de manera gratuita. El Bici Taller es auto-administrado por voluntarios y hay muchas oportunidades para personas que quieren juntarse al equpio.
URL:https://pumptracksyr.com/event/neighbors-bike-depot-open-shop-21/
LOCATION:Bike Depot at 713 Marcellus Street\, 713 Marcellus Street\, Syracuse\, NY
END:VEVENT
BEGIN:VEVENT
DTSTART;TZID=America/New_York:20240716T170000
DTEND;TZID=America/New_York:20240716T190000
DTSTAMP:20260423T123154
CREATED:20240601T114600Z
LAST-MODIFIED:20240601T114628Z
UID:343-1721149200-1721156400@pumptracksyr.com
SUMMARY:Neighbors: Bike Depot\, Open Shop
DESCRIPTION:Fix your bike at the BIKE DEPOT! ¡Ven a reparar tu bicicleta! \nOpen Shop most Tuesdays 5-7PM and Saturdays 1-3PM.\nEl Bici Taller abre los martes 5-7PM y los sabados 1-3PM. \nCheck Facebook to confirm we are open and to let us know you’re coming!\n¡Chequeala página de Facebook para confirmar que estaremos abiertos! \nThe Bike Depot is a volunteer-run community bicycle repair workshop. Volunteer\, use tools to work on your own bicycle\, earn a bike\, and share skills and mutual aid. \nBike Depot es un taller communitario donde puedes reparar tu bicicleta tú mismo de manera gratuita. El Bici Taller es auto-administrado por voluntarios y hay muchas oportunidades para personas que quieren juntarse al equpio.
URL:https://pumptracksyr.com/event/neighbors-bike-depot-open-shop-6/
END:VEVENT
BEGIN:VEVENT
DTSTART;TZID=America/New_York:20240713T130000
DTEND;TZID=America/New_York:20240713T150000
DTSTAMP:20260423T123154
CREATED:20240601T115732Z
LAST-MODIFIED:20240601T115732Z
UID:372-1720875600-1720882800@pumptracksyr.com
SUMMARY:Neighbors: Bike Depot\, Open Shop
DESCRIPTION:Fix your bike at the BIKE DEPOT! ¡Ven a reparar tu bicicleta! \nOpen Shop most Tuesdays 5-7PM and Saturdays 1-3PM.\nEl Bici Taller abre los martes 5-7PM y los sabados 1-3PM. \nCheck Facebook to confirm we are open and to let us know you’re coming!\n¡Chequeala página de Facebook para confirmar que estaremos abiertos! \nThe Bike Depot is a volunteer-run community bicycle repair workshop. Volunteer\, use tools to work on your own bicycle\, earn a bike\, and share skills and mutual aid. \nBike Depot es un taller communitario donde puedes reparar tu bicicleta tú mismo de manera gratuita. El Bici Taller es auto-administrado por voluntarios y hay muchas oportunidades para personas que quieren juntarse al equpio.
URL:https://pumptracksyr.com/event/neighbors-bike-depot-open-shop-20/
END:VEVENT
BEGIN:VEVENT
DTSTART;TZID=America/New_York:20240709T170000
DTEND;TZID=America/New_York:20240709T190000
DTSTAMP:20260423T123154
CREATED:20240601T114511Z
LAST-MODIFIED:20240601T114511Z
UID:341-1720544400-1720551600@pumptracksyr.com
SUMMARY:Neighbors: Bike Depot\, Open Shop
DESCRIPTION:Fix your bike at the BIKE DEPOT! ¡Ven a reparar tu bicicleta! \nOpen Shop most Tuesdays 5-7PM and Saturdays 1-3PM.\nEl Bici Taller abre los martes 5-7PM y los sabados 1-3PM. \nCheck Facebook to confirm we are open and to let us know you’re coming!\n¡Chequeala página de Facebook para confirmar que estaremos abiertos! \nThe Bike Depot is a volunteer-run community bicycle repair workshop. Volunteer\, use tools to work on your own bicycle\, earn a bike\, and share skills and mutual aid. \nBike Depot es un taller communitario donde puedes reparar tu bicicleta tú mismo de manera gratuita. El Bici Taller es auto-administrado por voluntarios y hay muchas oportunidades para personas que quieren juntarse al equpio.
URL:https://pumptracksyr.com/event/neighbors-bike-depot-open-shop-5/
LOCATION:Bike Depot at 713 Marcellus Street\, 713 Marcellus Street\, Syracuse\, NY
END:VEVENT
BEGIN:VEVENT
DTSTART;TZID=America/New_York:20240706T130000
DTEND;TZID=America/New_York:20240706T150000
DTSTAMP:20260423T123154
CREATED:20240601T115704Z
LAST-MODIFIED:20240601T115704Z
UID:370-1720270800-1720278000@pumptracksyr.com
SUMMARY:Neighbors: Bike Depot\, Open Shop
DESCRIPTION:Fix your bike at the BIKE DEPOT! ¡Ven a reparar tu bicicleta! \nOpen Shop most Tuesdays 5-7PM and Saturdays 1-3PM.\nEl Bici Taller abre los martes 5-7PM y los sabados 1-3PM. \nCheck Facebook to confirm we are open and to let us know you’re coming!\n¡Chequeala página de Facebook para confirmar que estaremos abiertos! \nThe Bike Depot is a volunteer-run community bicycle repair workshop. Volunteer\, use tools to work on your own bicycle\, earn a bike\, and share skills and mutual aid. \nBike Depot es un taller communitario donde puedes reparar tu bicicleta tú mismo de manera gratuita. El Bici Taller es auto-administrado por voluntarios y hay muchas oportunidades para personas que quieren juntarse al equpio.
URL:https://pumptracksyr.com/event/neighbors-bike-depot-open-shop-19/
LOCATION:Bike Depot at 713 Marcellus Street\, 713 Marcellus Street\, Syracuse\, NY
END:VEVENT
BEGIN:VEVENT
DTSTART;TZID=America/New_York:20240702T170000
DTEND;TZID=America/New_York:20240702T190000
DTSTAMP:20260423T123154
CREATED:20240601T114428Z
LAST-MODIFIED:20240601T114428Z
UID:339-1719939600-1719946800@pumptracksyr.com
SUMMARY:Neighbors: Bike Depot\, Open Shop
DESCRIPTION:Fix your bike at the BIKE DEPOT! ¡Ven a reparar tu bicicleta! \nOpen Shop most Tuesdays 5-7PM and Saturdays 1-3PM.\nEl Bici Taller abre los martes 5-7PM y los sabados 1-3PM. \nCheck Facebook to confirm we are open and to let us know you’re coming!\n¡Chequeala página de Facebook para confirmar que estaremos abiertos! \nThe Bike Depot is a volunteer-run community bicycle repair workshop. Volunteer\, use tools to work on your own bicycle\, earn a bike\, and share skills and mutual aid. \nBike Depot es un taller communitario donde puedes reparar tu bicicleta tú mismo de manera gratuita. El Bici Taller es auto-administrado por voluntarios y hay muchas oportunidades para personas que quieren juntarse al equpio.
URL:https://pumptracksyr.com/event/neighbors-bike-depot-open-shop-4/
LOCATION:Bike Depot at 713 Marcellus Street\, 713 Marcellus Street\, Syracuse\, NY
END:VEVENT
BEGIN:VEVENT
DTSTART;TZID=America/New_York:20240629T130000
DTEND;TZID=America/New_York:20240629T150000
DTSTAMP:20260423T123154
CREATED:20240601T115624Z
LAST-MODIFIED:20240601T115624Z
UID:368-1719666000-1719673200@pumptracksyr.com
SUMMARY:Neighbors: Bike Depot\, Open Shop
DESCRIPTION:Fix your bike at the BIKE DEPOT! ¡Ven a reparar tu bicicleta! \nOpen Shop most Tuesdays 5-7PM and Saturdays 1-3PM.\nEl Bici Taller abre los martes 5-7PM y los sabados 1-3PM. \nCheck Facebook to confirm we are open and to let us know you’re coming!\n¡Chequeala página de Facebook para confirmar que estaremos abiertos! \nThe Bike Depot is a volunteer-run community bicycle repair workshop. Volunteer\, use tools to work on your own bicycle\, earn a bike\, and share skills and mutual aid. \nBike Depot es un taller communitario donde puedes reparar tu bicicleta tú mismo de manera gratuita. El Bici Taller es auto-administrado por voluntarios y hay muchas oportunidades para personas que quieren juntarse al equpio.
URL:https://pumptracksyr.com/event/neighbors-bike-depot-open-shop-18/
LOCATION:Bike Depot at 713 Marcellus Street\, 713 Marcellus Street\, Syracuse\, NY
END:VEVENT
BEGIN:VEVENT
DTSTART;TZID=America/New_York:20240629T130000
DTEND;TZID=America/New_York:20240629T150000
DTSTAMP:20260423T123154
CREATED:20240601T115541Z
LAST-MODIFIED:20240601T115541Z
UID:365-1719666000-1719673200@pumptracksyr.com
SUMMARY:Neighbors: Bike Depot\, Open Shop
DESCRIPTION:Fix your bike at the BIKE DEPOT! ¡Ven a reparar tu bicicleta! \nOpen Shop most Tuesdays 5-7PM and Saturdays 1-3PM.\nEl Bici Taller abre los martes 5-7PM y los sabados 1-3PM. \nCheck Facebook to confirm we are open and to let us know you’re coming!\n¡Chequeala página de Facebook para confirmar que estaremos abiertos! \nThe Bike Depot is a volunteer-run community bicycle repair workshop. Volunteer\, use tools to work on your own bicycle\, earn a bike\, and share skills and mutual aid. \nBike Depot es un taller communitario donde puedes reparar tu bicicleta tú mismo de manera gratuita. El Bici Taller es auto-administrado por voluntarios y hay muchas oportunidades para personas que quieren juntarse al equpio.
URL:https://pumptracksyr.com/event/neighbors-bike-depot-open-shop-17/
LOCATION:Bike Depot at 713 Marcellus Street\, 713 Marcellus Street\, Syracuse\, NY
END:VEVENT
BEGIN:VEVENT
DTSTART;TZID=America/New_York:20240625T170000
DTEND;TZID=America/New_York:20240625T190000
DTSTAMP:20260423T123154
CREATED:20240601T114224Z
LAST-MODIFIED:20240601T114224Z
UID:337-1719334800-1719342000@pumptracksyr.com
SUMMARY:Neighbors: Bike Depot\, Open Shop
DESCRIPTION:Fix your bike at the BIKE DEPOT! ¡Ven a reparar tu bicicleta! \nOpen Shop most Tuesdays 5-7PM and Saturdays 1-3PM.\nEl Bici Taller abre los martes 5-7PM y los sabados 1-3PM. \nCheck Facebook to confirm we are open and to let us know you’re coming!\n¡Chequeala página de Facebook para confirmar que estaremos abiertos! \nThe Bike Depot is a volunteer-run community bicycle repair workshop. Volunteer\, use tools to work on your own bicycle\, earn a bike\, and share skills and mutual aid. \nBike Depot es un taller communitario donde puedes reparar tu bicicleta tú mismo de manera gratuita. El Bici Taller es auto-administrado por voluntarios y hay muchas oportunidades para personas que quieren juntarse al equpio.
URL:https://pumptracksyr.com/event/neighbors-bike-depot-open-shop-3/
LOCATION:Bike Depot at 713 Marcellus Street\, 713 Marcellus Street\, Syracuse\, NY
END:VEVENT
BEGIN:VEVENT
DTSTART;TZID=America/New_York:20240622T130000
DTEND;TZID=America/New_York:20240622T150000
DTSTAMP:20260423T123154
CREATED:20240601T115516Z
LAST-MODIFIED:20240601T115516Z
UID:363-1719061200-1719068400@pumptracksyr.com
SUMMARY:Neighbors: Bike Depot\, Open Shop
DESCRIPTION:Fix your bike at the BIKE DEPOT! ¡Ven a reparar tu bicicleta! \nOpen Shop most Tuesdays 5-7PM and Saturdays 1-3PM.\nEl Bici Taller abre los martes 5-7PM y los sabados 1-3PM. \nCheck Facebook to confirm we are open and to let us know you’re coming!\n¡Chequeala página de Facebook para confirmar que estaremos abiertos! \nThe Bike Depot is a volunteer-run community bicycle repair workshop. Volunteer\, use tools to work on your own bicycle\, earn a bike\, and share skills and mutual aid. \nBike Depot es un taller communitario donde puedes reparar tu bicicleta tú mismo de manera gratuita. El Bici Taller es auto-administrado por voluntarios y hay muchas oportunidades para personas que quieren juntarse al equpio.
URL:https://pumptracksyr.com/event/neighbors-bike-depot-open-shop-16/
LOCATION:Bike Depot at 713 Marcellus Street\, 713 Marcellus Street\, Syracuse\, NY
END:VEVENT
BEGIN:VEVENT
DTSTART;TZID=America/New_York:20240618T170000
DTEND;TZID=America/New_York:20240618T190000
DTSTAMP:20260423T123154
CREATED:20240601T114151Z
LAST-MODIFIED:20240601T114151Z
UID:335-1718730000-1718737200@pumptracksyr.com
SUMMARY:Neighbors: Bike Depot\, Open Shop
DESCRIPTION:Fix your bike at the BIKE DEPOT! ¡Ven a reparar tu bicicleta! \nOpen Shop most Tuesdays 5-7PM and Saturdays 1-3PM.\nEl Bici Taller abre los martes 5-7PM y los sabados 1-3PM. \nCheck Facebook to confirm we are open and to let us know you’re coming!\n¡Chequeala página de Facebook para confirmar que estaremos abiertos! \nThe Bike Depot is a volunteer-run community bicycle repair workshop. Volunteer\, use tools to work on your own bicycle\, earn a bike\, and share skills and mutual aid. \nBike Depot es un taller communitario donde puedes reparar tu bicicleta tú mismo de manera gratuita. El Bici Taller es auto-administrado por voluntarios y hay muchas oportunidades para personas que quieren juntarse al equpio.
URL:https://pumptracksyr.com/event/neighbors-bike-depot-open-shop-2/
LOCATION:Bike Depot at 713 Marcellus Street\, 713 Marcellus Street\, Syracuse\, NY
END:VEVENT
BEGIN:VEVENT
DTSTART;TZID=America/New_York:20240615T130000
DTEND;TZID=America/New_York:20240615T150000
DTSTAMP:20260423T123154
CREATED:20240601T115438Z
LAST-MODIFIED:20240601T115438Z
UID:361-1718456400-1718463600@pumptracksyr.com
SUMMARY:Neighbors: Bike Depot\, Open Shop
DESCRIPTION:Fix your bike at the BIKE DEPOT! ¡Ven a reparar tu bicicleta! \nOpen Shop most Tuesdays 5-7PM and Saturdays 1-3PM.\nEl Bici Taller abre los martes 5-7PM y los sabados 1-3PM. \nCheck Facebook to confirm we are open and to let us know you’re coming!\n¡Chequeala página de Facebook para confirmar que estaremos abiertos! \nThe Bike Depot is a volunteer-run community bicycle repair workshop. Volunteer\, use tools to work on your own bicycle\, earn a bike\, and share skills and mutual aid. \nBike Depot es un taller communitario donde puedes reparar tu bicicleta tú mismo de manera gratuita. El Bici Taller es auto-administrado por voluntarios y hay muchas oportunidades para personas que quieren juntarse al equpio.
URL:https://pumptracksyr.com/event/neighbors-bike-depot-open-shop-15/
LOCATION:Bike Depot at 713 Marcellus Street\, 713 Marcellus Street\, Syracuse\, NY
END:VEVENT
BEGIN:VEVENT
DTSTART;TZID=America/New_York:20240611T170000
DTEND;TZID=America/New_York:20240611T190000
DTSTAMP:20260423T123154
CREATED:20240601T114100Z
LAST-MODIFIED:20240601T114100Z
UID:331-1718125200-1718132400@pumptracksyr.com
SUMMARY:Neighbors: Bike Depot\, Open Shop
DESCRIPTION:Fix your bike at the BIKE DEPOT! ¡Ven a reparar tu bicicleta! \nOpen Shop most Tuesdays 5-7PM and Saturdays 1-3PM.\nEl Bici Taller abre los martes 5-7PM y los sabados 1-3PM. \nCheck Facebook to confirm we are open and to let us know you’re coming!\n¡Chequeala página de Facebook para confirmar que estaremos abiertos! \nThe Bike Depot is a volunteer-run community bicycle repair workshop. Volunteer\, use tools to work on your own bicycle\, earn a bike\, and share skills and mutual aid. \nBike Depot es un taller communitario donde puedes reparar tu bicicleta tú mismo de manera gratuita. El Bici Taller es auto-administrado por voluntarios y hay muchas oportunidades para personas que quieren juntarse al equpio.
URL:https://pumptracksyr.com/event/neighbors-bike-depot-open-shop/
LOCATION:Bike Depot at 713 Marcellus Street\, 713 Marcellus Street\, Syracuse\, NY
END:VEVENT
BEGIN:VEVENT
DTSTART;TZID=America/New_York:20240608T130000
DTEND;TZID=America/New_York:20240608T150000
DTSTAMP:20260423T123154
CREATED:20240601T115357Z
LAST-MODIFIED:20240601T115357Z
UID:359-1717851600-1717858800@pumptracksyr.com
SUMMARY:Neighbors: Bike Depot\, Open Shop
DESCRIPTION:Fix your bike at the BIKE DEPOT! ¡Ven a reparar tu bicicleta! \nOpen Shop most Tuesdays 5-7PM and Saturdays 1-3PM.\nEl Bici Taller abre los martes 5-7PM y los sabados 1-3PM. \nCheck Facebook to confirm we are open and to let us know you’re coming!\n¡Chequeala página de Facebook para confirmar que estaremos abiertos! \nThe Bike Depot is a volunteer-run community bicycle repair workshop. Volunteer\, use tools to work on your own bicycle\, earn a bike\, and share skills and mutual aid. \nBike Depot es un taller communitario donde puedes reparar tu bicicleta tú mismo de manera gratuita. El Bici Taller es auto-administrado por voluntarios y hay muchas oportunidades para personas que quieren juntarse al equpio.
URL:https://pumptracksyr.com/event/neighbors-bike-depot-open-shop-14/
LOCATION:Bike Depot at 713 Marcellus Street\, 713 Marcellus Street\, Syracuse\, NY
END:VEVENT
BEGIN:VEVENT
DTSTART;TZID=America/New_York:20240604T170000
DTEND;TZID=America/New_York:20240604T190000
DTSTAMP:20260423T123154
CREATED:20240601T113255Z
LAST-MODIFIED:20240601T113933Z
UID:323-1717520400-1717527600@pumptracksyr.com
SUMMARY:Neighbors: Bike Depot\, Open Shop
DESCRIPTION:Fix your bike at the BIKE DEPOT! ¡Ven a reparar tu bicicleta! \nOpen Shop most Tuesdays 5-7PM and Saturdays 1-3PM.\nEl Bici Taller abre los martes 5-7PM y los sabados 1-3PM. \nCheck Facebook to confirm we are open and to let us know you’re coming!\n¡Chequeala página de Facebook para confirmar que estaremos abiertos! \nThe Bike Depot is a volunteer-run community bicycle repair workshop. Volunteer\, use tools to work on your own bicycle\, earn a bike\, and share skills and mutual aid. \nBike Depot es un taller communitario donde puedes reparar tu bicicleta tú mismo de manera gratuita. El Bici Taller es auto-administrado por voluntarios y hay muchas oportunidades para personas que quieren juntarse al equpio.
URL:https://pumptracksyr.com/event/neighbors-bike-depot-5-7/
LOCATION:Bike Depot at 713 Marcellus Street\, 713 Marcellus Street\, Syracuse\, NY
END:VEVENT
BEGIN:VEVENT
DTSTART;VALUE=DATE:20230610
DTEND;VALUE=DATE:20230611
DTSTAMP:20260423T123154
CREATED:20230512T200012Z
LAST-MODIFIED:20230512T200012Z
UID:319-1686355200-1686441599@pumptracksyr.com
SUMMARY:Season Kick Off - TBD
DESCRIPTION:Stay tuned for more information! \nReach out to get involved! \n 
URL:https://pumptracksyr.com/event/season-kick-off-tbd/
LOCATION:PumpTrackSYR\, 1010 West Fayette St\, Syracuse\, NY\, 13204\, United States
ORGANIZER;CN="PumpTrackSYR":MAILTO:team@pumptracksyr.com
END:VEVENT
BEGIN:VEVENT
DTSTART;TZID=America/New_York:20230429T100000
DTEND;TZID=America/New_York:20230429T140000
DTSTAMP:20260423T123154
CREATED:20230421T164203Z
LAST-MODIFIED:20230421T164220Z
UID:314-1682762400-1682776800@pumptracksyr.com
SUMMARY:Spring Build Day
DESCRIPTION:Spring Cleaning and Track Tweaking!
URL:https://pumptracksyr.com/event/spring-build-day/
LOCATION:PumpTrackSYR\, 1010 West Fayette St\, Syracuse\, NY\, 13204\, United States
END:VEVENT
END:VCALENDAR